BEGIN:VCALENDAR
VERSION:2.0
PRODID:-//Ziber2013/
CALSCALE:GREGORIAN
BEGIN:VEVENT
UID:257629@https://www.samenvoorwaarts.nl
DTSTART:20260629T193000
DTEND:20260629T203000
SUMMARY:Seizoensafsluiting concert 29 juni 2026
DESCRIPTION:
LOCATION:Fanfare ”Samen Voorwaarts”\, p/a Dorpshuis Harmonie\, Zwarteweg 13 A\, 1735 GL t Veld
SEQUENCE:0
DTSTAMP:20260421T145305
END:VEVENT
END:VCALENDAR
